BEGIN:VCALENDAR
VERSION:2.0
PRODID:-//Tucson Chapter, Ninety-Nines Inc. - ECPv6.6.4.1//NONSGML v1.0//EN
CALSCALE:GREGORIAN
METHOD:PUBLISH
X-WR-CALNAME:Tucson Chapter, Ninety-Nines Inc.
X-ORIGINAL-URL:https://tucson99s.org
X-WR-CALDESC:Events for Tucson Chapter, Ninety-Nines Inc.
REFRESH-INTERVAL;VALUE=DURATION:PT1H
X-Robots-Tag:noindex
X-PUBLISHED-TTL:PT1H
BEGIN:VTIMEZONE
TZID:UTC
BEGIN:STANDARD
TZOFFSETFROM:+0000
TZOFFSETTO:+0000
TZNAME:UTC
DTSTART:20250101T000000
END:STANDARD
END:VTIMEZONE
BEGIN:VEVENT
DTSTART;TZID=UTC:20250225T180000
DTEND;TZID=UTC:20250225T210000
DTSTAMP:20260425T123414
CREATED:20241106T165744Z
LAST-MODIFIED:20250204T020045Z
UID:147-1740506400-1740517200@tucson99s.org
SUMMARY:February Member Social
DESCRIPTION:Location will be emailed!
URL:https://tucson99s.org/event/february-member-social
CATEGORIES:Member Events
END:VEVENT
END:VCALENDAR