BEGIN:VCALENDAR
VERSION:2.0
PRODID:-//Tucson Chapter, Ninety-Nines Inc. - ECPv6.6.4.1//NONSGML v1.0//EN
CALSCALE:GREGORIAN
METHOD:PUBLISH
X-ORIGINAL-URL:https://tucson99s.org
X-WR-CALDESC:Events for Tucson Chapter, Ninety-Nines Inc.
REFRESH-INTERVAL;VALUE=DURATION:PT1H
X-Robots-Tag:noindex
X-PUBLISHED-TTL:PT1H
BEGIN:VTIMEZONE
TZID:UTC
BEGIN:STANDARD
TZOFFSETFROM:+0000
TZOFFSETTO:+0000
TZNAME:UTC
DTSTART:20240101T000000
END:STANDARD
END:VTIMEZONE
BEGIN:VEVENT
DTSTART;TZID=UTC:20241207T120000
DTEND;TZID=UTC:20241207T150000
DTSTAMP:20260423T105005
CREATED:20240924T191134Z
LAST-MODIFIED:20241106T170903Z
UID:132-1733572800-1733583600@tucson99s.org
SUMMARY:Member Holiday Party
DESCRIPTION:Details will be emailed – we hope to see you and your family there!
URL:https://tucson99s.org/event/member-holiday-party
END:VEVENT
END:VCALENDAR