BEGIN:VCALENDAR
VERSION:2.0
PRODID:-//Tucson Chapter, Ninety-Nines Inc. - ECPv6.6.4.1//NONSGML v1.0//EN
CALSCALE:GREGORIAN
METHOD:PUBLISH
X-ORIGINAL-URL:https://tucson99s.org
X-WR-CALDESC:Events for Tucson Chapter, Ninety-Nines Inc.
REFRESH-INTERVAL;VALUE=DURATION:PT1H
X-Robots-Tag:noindex
X-PUBLISHED-TTL:PT1H
BEGIN:VTIMEZONE
TZID:UTC
BEGIN:STANDARD
TZOFFSETFROM:+0000
TZOFFSETTO:+0000
TZNAME:UTC
DTSTART:20250101T000000
END:STANDARD
END:VTIMEZONE
BEGIN:VEVENT
DTSTART;TZID=UTC:20250426T080000
DTEND;TZID=UTC:20250426T170000
DTSTAMP:20260421T123919
CREATED:20241106T170012Z
LAST-MODIFIED:20250124T035026Z
UID:156-1745654400-1745686800@tucson99s.org
SUMMARY:Spring Fly Out
DESCRIPTION:Location TBD
URL:https://tucson99s.org/event/spring-fly-out
CATEGORIES:Member Events
END:VEVENT
END:VCALENDAR